BEGIN:VCALENDAR
VERSION:2.0
PRODID:-//Roadracing World Magazine | Motorcycle Riding, Racing &amp; Tech News - ECPv6.15.18//NONSGML v1.0//EN
CALSCALE:GREGORIAN
METHOD:PUBLISH
X-WR-CALNAME:Roadracing World Magazine | Motorcycle Riding, Racing &amp; Tech News
X-ORIGINAL-URL:https://www.roadracingworld.com
X-WR-CALDESC:Events for Roadracing World Magazine | Motorcycle Riding, Racing &amp; Tech News
REFRESH-INTERVAL;VALUE=DURATION:PT1H
X-Robots-Tag:noindex
X-PUBLISHED-TTL:PT1H
BEGIN:VTIMEZONE
TZID:America/Los_Angeles
BEGIN:DAYLIGHT
TZOFFSETFROM:-0800
TZOFFSETTO:-0700
TZNAME:PDT
DTSTART:20250309T100000
END:DAYLIGHT
BEGIN:STANDARD
TZOFFSETFROM:-0700
TZOFFSETTO:-0800
TZNAME:PST
DTSTART:20251102T090000
END:STANDARD
BEGIN:DAYLIGHT
TZOFFSETFROM:-0800
TZOFFSETTO:-0700
TZNAME:PDT
DTSTART:20260308T100000
END:DAYLIGHT
BEGIN:STANDARD
TZOFFSETFROM:-0700
TZOFFSETTO:-0800
TZNAME:PST
DTSTART:20261101T090000
END:STANDARD
BEGIN:DAYLIGHT
TZOFFSETFROM:-0800
TZOFFSETTO:-0700
TZNAME:PDT
DTSTART:20270314T100000
END:DAYLIGHT
BEGIN:STANDARD
TZOFFSETFROM:-0700
TZOFFSETTO:-0800
TZNAME:PST
DTSTART:20271107T090000
END:STANDARD
END:VTIMEZONE
BEGIN:VEVENT
DTSTART;VALUE=DATE:20260409
DTEND;VALUE=DATE:20260411
DTSTAMP:20260419T201713
CREATED:20260414T014557Z
LAST-MODIFIED:20260414T014557Z
UID:266837-1775692800-1775865599@www.roadracingworld.com
SUMMARY:California Superbike School
DESCRIPTION:
URL:https://www.roadracingworld.com/event/california-superbike-school-5/
LOCATION:WeatherTech Raceway Laguna Seca\, Monterey\, CA\, 1021 Monterey-Salinas Hwy.\, Salinas\, CA\, 93908\, United States
END:VEVENT
END:VCALENDAR